Workbook

Sheet Rekapitulace stavby
A1: Export Komplet | BA1: 2.0 | BB1: ZAMOK | BT1: False | BU1: False | BV1: {01fd5293-dda8-439c-bfc7-573c3a913534}
BS2: 0,01 | BT2: 21
BS3: 0,01 | BT3: 12
D4: REKAPITULACE STAVBY | AS4: v --- níže se nacházejí doplnkové a pomocné údaje k sestavám --- v | BE4: Návod na vyplnění | BS4: 0,001
D5: Kód: | K5: 2026-13 | BE5: Měnit lze pouze buňky se žlutým podbarvením!_x000D_ _x000D_ 1) na prvním listu Rekapitulace stavby vyplňte v sestavě_x000D_ _x000D_ a) Souhrnný list_x000D_ - údaje o Uchazeči_x000D_ (přenesou se do ostatních sestav i v jiných listech)_x000D_ _x000D_ b) Rekapitulace objektů_x000D_ - potřebné Ostatní náklady_x000D_ _x000D_ 2) na vybraných listech vyplňte v sestavě_x000D_ _x000D_ a) Krycí list_x000D_ - údaje o Uchazeči, pokud se liší od údajů o Uchazeči na Souhrnném listu_x000D_ (údaje se přenesou do ostatních sestav v daném listu)_x000D_ _x000D_ b) Rekapitulace rozpočtu_x000D_ - potřebné Ostatní náklady_x000D_ _x000D_ c) Celkové náklady za stavbu_x000D_ - ceny u položek_x000D_ - množství, pokud má žluté podbarvení_x000D_ - a v případě potřeby poznámku (ta je ve skrytém sloupci) | BS5: 0,01
D6: Stavba: | K6: Osazení vjezdových bran a související práce - Pardubice, Gorkého | BS6: 0,01
D7: KSO: | AK7: CC-CZ: | BS7: 0,01
D8: Místo: | K8: Pardubice, Gorkého 350 | AK8: Datum: | AN8: 46304 | BS8: 0,01
BS9: 0,01
D10: Zadavatel: | K10: Domov mládeže a školní jídelna Pardubice | AK10: IČ: | AN10: 48161071 | BS10: 0,01
K11: Rožkova 331, Zelené Předměstí | AK11: DIČ: | AN11: CZ48161071 | BS11: 0,01
K12: 530 02 Pardubice | BS12: 0,01
D13: Uchazeč: | AK13: IČ: | AN13: Vyplň údaj | BS13: 0,01
E14: Vyplň údaj | AK14: DIČ: | AN14: Vyplň údaj | BS14: 0,01
BS15: False
D16: Projektant: | AK16: IČ: | BS16: False
E17: astalon s.r.o. | AK17: DIČ: | BS17: True
BS18: 0,01
D19: Zpracovatel: | AK19: IČ: | BS19: 0,01
AK20: DIČ: | BS20: True
D22: Poznámka:
D26: Cena bez DPH | AK26: =ROUND(AG94,2) -> 0
L28: Sazba daně | W28: Základ daně | AK28: Výše daně
D29: DPH | F29: základní | L29: 0.21 | W29: =ROUND(AZ94, 2) -> 0 | AK29: =ROUND(AV94, 2) -> 0
F30: snížená | L30: 0.12 | W30: =ROUND(BA94, 2) -> 0 | AK30: =ROUND(AW94, 2) -> 0
F31: zákl. přenesená | L31: 0.21 | W31: =ROUND(BB94, 2) -> 0 | AK31: 0
F32: sníž. přenesená | L32: 0.12 | W32: =ROUND(BC94, 2) -> 0 | AK32: 0
F33: nulová | L33: 0 | W33: =ROUND(BD94, 2) -> 0 | AK33: 0
D35: Cena s DPH | T35: v | X35: CZK | AK35: =SUM(AK26:AK33) -> 0
D49: Projektant | AH49: Zpracovatel
D60: Datum a podpis: | V60: Razítko | AH60: Datum a podpis: | AM60: Razítko
D64: Objednavatel | AH64: Uchazeč
D75: Datum a podpis: | V75: Razítko | AH75: Datum a podpis: | AM75: Razítko
C82: REKAPITULACE OBJEKTŮ STAVBY A SOUPISŮ PRACÍ
C84: Kód: | L84: =K5 -> 2026-13
C85: Stavba: | L85: =K6 -> Osazení vjezdových bran a související práce - Pardubice, Gorkého
C87: Místo: | L87: =IF(K8="","",K8) -> Pardubice, Gorkého 350 | AI87: Datum: | AM87: =IF(AN8= "","",AN8) -> 46304
C89: Zadavatel: | L89: =IF(K10= "","",K10) -> Domov mládeže a školní jídelna Pardubice | AI89: Projektant: | AM89: =IF(E17="","",E17) -> astalon s.r.o. | AS89: Informatívní údaje z listů zakázek
C90: Uchazeč: | L90: =IF(E14= "Vyplň údaj","",E14) | AI90: Zpracovatel: | AM90: =IF(E20="","",E20)
C92: Kód | I92: Popis | AG92: Cena bez DPH [CZK] | AN92: Cena s DPH [CZK] | AQ92: Typ | AS92: z toho Ostat._x000D_ náklady [CZK] | AT92: DPH [CZK] | AU92: Normohodiny [h] | AV92: DPH základní [CZK] | AW92: DPH snížená [CZK] | AX92: DPH základní přenesená_x000D_ [CZK] | AY92: DPH snížená přenesená_x000D_ [CZK] | AZ92: Základna_x000D_ DPH základní | BA92: Základna_x000D_ DPH snížená | BB92: Základna_x000D_ DPH zákl. přenesená | BC92: Základna_x000D_ DPH sníž. přenesená | BD92: Základna_x000D_ DPH nulová
C94: Náklady z rozpočtů | AG94: =ROUND(AG95,2) -> 0 | AN94: =SUM(AG94,AT94) -> 0 | AS94: =ROUND(AS95,2) -> 0 | AT94: =ROUND(SUM(AV94:AW94),2) -> 0 | AU94: =ROUND(AU95,5) -> 0 | AV94: =ROUND(AZ94*L29,2) -> 0 | AW94: =ROUND(BA94*L30,2) -> 0 | AX94: =ROUND(BB94*L29,2) -> 0 | AY94: =ROUND(BC94*L30,2) -> 0 | AZ94: =ROUND(AZ95,2) -> 0 | BA94: =ROUND(BA95,2) -> 0 | BB94: =ROUND(BB95,2) -> 0 | BC94: =ROUND(BC95,2) -> 0 | BD94: =ROUND(BD95,2) -> 0 | BS94: D | BT94: 0 | BV94: IMPORT | BW94: {01fd5293-dda8-439c-bfc7-573c3a913534} | BX94: {00000000-0000-0000-0000-000000000000}
A95: / | D95: 2026-29 | J95: Osazení vjezdových bran a související práce - Pardubice, Gorkého | AG95: ='2026-13 - Osazení vjezdov...'!J28 -> 0 | AN95: =SUM(AG95,AT95) -> 0 | AQ95: STA | AS95: 0 | AT95: =ROUND(SUM(AV95:AW95),2) -> 0 | AU95: ='2026-13 - Osazení vjezdov...'!P126 -> 0 | AV95: ='2026-13 - Osazení vjezdov...'!J31 -> 0 | AW95: ='2026-13 - Osazení vjezdov...'!J32 -> 0 | AX95: ='2026-13 - Osazení vjezdov...'!J33 -> 0 | AY95: ='2026-13 - Osazení vjezdov...'!J34 -> 0 | AZ95: ='2026-13 - Osazení vjezdov...'!F31 -> 0 | BA95: ='2026-13 - Osazení vjezdov...'!F32 -> 0 | BB95: ='2026-13 - Osazení vjezdov...'!F33 -> 0 | BC95: ='2026-13 - Osazení vjezdov...'!F34 -> 0 | BD95: ='2026-13 - Osazení vjezdov...'!F35 -> 0 | BT95: 1 | BU95: ###NOINSERT### | BV95: IMPORT | BW95: {01fd5293-dda8-439c-bfc7-573c3a913534} | BX95: {00000000-0000-0000-0000-000000000000}

Sheet 2026-13 - Osazení vjezdov...
AT2: {01fd5293-dda8-439c-bfc7-573c3a913534}
AT3: 2
D4: KRYCÍ LIST SOUPISU PRACÍ | M4: v --- níže se nacházejí doplnkové a pomocné údaje k sestavám --- v | AT4: False
D6: Stavba:
E7: Osazení vjezdových bran a související práce - Pardubice, Gorkého
D9: KSO: | I9: CC-CZ:
D10: Místo: | F10: ='Rekapitulace stavby'!K8 -> Pardubice, Gorkého 350 | I10: Datum: | J10: ='Rekapitulace stavby'!AN8 -> 46304
D12: Zadavatel: | F12: ='Rekapitulace stavby'!K10 -> Domov mládeže a školní jídelna Pardubice | I12: IČ: | J12: 48161071
F13: ='Rekapitulace stavby'!K11 -> Rožkova 331, Zelené Předměstí | I13: DIČ: | J13: CZ48161071
F14: ='Rekapitulace stavby'!K12 -> 530 02 Pardubice
D15: Uchazeč: | I15: IČ: | J15: ='Rekapitulace stavby'!AN13 -> Vyplň údaj
E16: ='Rekapitulace stavby'!E14 -> Vyplň údaj | I16: DIČ: | J16: ='Rekapitulace stavby'!AN14 -> Vyplň údaj
D18: Projektant: | I18: IČ: | J18: =IF('Rekapitulace stavby'!AN16="","",'Rekapitulace stavby'!AN16)
E19: =IF('Rekapitulace stavby'!E17="","",'Rekapitulace stavby'!E17) -> astalon s.r.o. | I19: DIČ: | J19: =IF('Rekapitulace stavby'!AN17="","",'Rekapitulace stavby'!AN17)
D21: Zpracovatel: | I21: IČ: | J21: =IF('Rekapitulace stavby'!AN19="","",'Rekapitulace stavby'!AN19)
E22: =IF('Rekapitulace stavby'!E20="","",'Rekapitulace stavby'!E20) | I22: DIČ: | J22: =IF('Rekapitulace stavby'!AN20="","",'Rekapitulace stavby'!AN20)
D24: Poznámka:
D28: Cena bez DPH | J28: =ROUND(J126, 2) -> 0
F30: Základ daně | I30: Sazba daně | J30: Výše daně
D31: DPH | E31: základní | F31: =ROUND((SUM(BE126:BE229)), 2) -> 0 | I31: 0.21 | J31: =ROUND(((SUM(BE126:BE229))*I31), 2) -> 0
E32: snížená | F32: =ROUND((SUM(BF126:BF229)), 2) -> 0 | I32: 0.12 | J32: =ROUND(((SUM(BF126:BF229))*I32), 2) -> 0
E33: zákl. přenesená | F33: =ROUND((SUM(BG126:BG229)), 2) -> 0 | I33: 0.21 | J33: =0 -> 0
E34: sníž. přenesená | F34: =ROUND((SUM(BH126:BH229)), 2) -> 0 | I34: 0.12 | J34: =0 -> 0
E35: nulová | F35: =ROUND((SUM(BI126:BI229)), 2) -> 0 | I35: 0 | J35: =0 -> 0
D37: Cena s DPH | G37: v | H37: CZK | J37: =SUM(J28:J35) -> 0
D50: Projektant | G50: Zpracovatel
D61: Datum a podpis: | F61: Razítko | G61: Datum a podpis: | J61: Razítko
D65: Objednavatel | G65: Uchazeč
D76: Datum a podpis: | F76: Razítko | G76: Datum a podpis: | J76: Razítko
C82: REKAPITULACE ČLENĚNÍ SOUPISU PRACÍ
C84: Stavba:
E85: =E7 -> Osazení vjezdových bran a související práce - Pardubice, Gorkého
C87: Místo: | F87: =F10 -> Pardubice, Gorkého 350 | I87: Datum: | J87: =IF(J10="","",J10) -> 46304
C89: Zadavatel: | F89: ='Rekapitulace stavby'!K10 -> Domov mládeže a školní jídelna Pardubice | I89: Projektant: | J89: =E19 -> astalon s.r.o.
C90: Uchazeč: | F90: =IF(E16="","",E16) -> Vyplň údaj | I90: Zpracovatel: | J90: =E22
C92: Kód dílu - Popis | J92: Cena celkem [CZK]
C94: Náklady ze soupisu prací | J94: =J126 -> 0 | AU94: -1
D95: HSV - Práce a dodávky HSV | J95: =J127 -> 0
D96: 1 - Zemní práce | J96: =J128 -> 0
D97: 2 - Zakládání | J97: =J140 -> 0
D98: 3 - Svislé a kompletní konstrukce | J98: =J152 -> 0
D99: 5 - Komunikace pozemní | J99: =J184 -> 0
D100: 9 - Ostatní konstrukce a práce, bourání | J100: =J186 -> 0
D101: 997 - Přesun sutě | J101: =J209 -> 0
D102: 998 - Přesun hmot | J102: =J215 -> 0
D103: PSV - Práce a dodávky PSV | J103: =J217 -> 0
D104: M - Práce a dodávky M | J104: =J218 -> 0
D105: 46-M - Zemní práce při extr.mont.pracích | J105: =J219 -> 0
D106: VRN - Vedlejší rozpočtové náklady | J106: =J224 -> 0
D107: VRN1 - Průzkumné, zeměměřičské a projektové práce | J107: =J225 -> 0
D108: VRN3 - Zařízení staveniště | J108: =J228 -> 0
C115: SOUPIS PRACÍ
C117: Stavba:
E118: =E7 -> Osazení vjezdových bran a související práce - Pardubice, Gorkého
C120: Místo: | F120: =F10 -> Pardubice, Gorkého 350 | I120: Datum: | J120: =IF(J10="","",J10) -> 46304
C122: Zadavatel: | F122: ='Rekapitulace stavby'!K10 -> Domov mládeže a školní jídelna Pardubice | I122: Projektant: | J122: =E19 -> astalon s.r.o.
C123: Uchazeč: | F123: =IF(E16="","",E16) -> Vyplň údaj | I123: Zpracovatel: | J123: =E22
C125: PČ | D125: Typ | E125: Kód | F125: Popis | G125: MJ | H125: Množství | I125: J.cena [CZK] | J125: Cena celkem [CZK] | K125: Cenová soustava | N125: DPH | O125: J. Nh [h] | P125: Nh celkem [h] | Q125: J. hmotnost [t] | R125: Hmotnost celkem [t] | S125: J. suť [t] | T125: Suť Celkem [t]
C126: Náklady soupisu celkem | J126: =BK126 -> 0 | P126: =P127+P217+P218+P224 -> 0 | R126: =R127+R217+R218+R224 -> 16.872942 | T126: =T127+T217+T218+T224 -> 3.703775 | AT126: D | AU126: -1 | BK126: =BK127+BK217+BK218+BK224 -> 0
D127: D | E127: HSV | F127: Práce a dodávky HSV | J127: =BK127 -> 0 | P127: =P128+P140+P152+P184+P186+P209+P215 -> 0 | R127: =R128+R140+R152+R184+R186+R209+R215 -> 16.871861 | T127: =T128+T140+T152+T184+T186+T209+T215 -> 3.703775 | AR127: 1 | AT127: D | AU127: 0 | AY127: ROZPOCET | BK127: =BK128+BK140+BK152+BK184+BK186+BK209+BK215 -> 0
D128: D | E128: 1 | F128: Zemní práce | J128: =BK128 -> 0 | P128: =SUM(P129:P139) -> 0 | R128: =SUM(R129:R139) -> 0 | T128: =SUM(T129:T139) -> 2.2 | AR128: 1 | AT128: D | AU128: 1 | AY128: ROZPOCET | BK128: =SUM(BK129:BK139) -> 0
C129: 1 | D129: K | E129: 113107042 | F129: Odstranění podkladu živičných tl přes 50 do 100 mm při překopech ručně | G129: m2 | H129: 10 | J129: =ROUND(I129*H129,2) -> 0 | K129: CS ÚRS 2026 02 | N129: základní | P129: =O129*H129 -> 0 | Q129: 0 | R129: =Q129*H129 -> 0 | S129: 0.22 | T129: =S129*H129 -> 2.2 | AR129: 4 | AT129: K | AU129: 2 | AY129: ROZPOCET | BE129: =IF(N129="základní",J129,0) -> 0 | BF129: =IF(N129="snížená",J129,0) -> 0 | BG129: =IF(N129="zákl. přenesená",J129,0) -> 0 | BH129: =IF(N129="sníž. přenesená",J129,0) -> 0 | BI129: =IF(N129="nulová",J129,0) -> 0 | BJ129: 1 | BK129: =ROUND(I129*H129,2) -> 0 | BL129: 4 | BM129: 795574927
C130: 2 | D130: K | E130: 131251100 | F130: Hloubení jam nezapažených v hornině třídy těžitelnosti I skupiny 3 objem do 20 m3 strojně | G130: m3 | H130: 5 | J130: =ROUND(I130*H130,2) -> 0 | K130: CS ÚRS 2026 02 | N130: základní | P130: =O130*H130 -> 0 | Q130: 0 | R130: =Q130*H130 -> 0 | S130: 0 | T130: =S130*H130 -> 0 | AR130: 4 | AT130: K | AU130: 2 | AY130: ROZPOCET | BE130: =IF(N130="základní",J130,0) -> 0 | BF130: =IF(N130="snížená",J130,0) -> 0 | BG130: =IF(N130="zákl. přenesená",J130,0) -> 0 | BH130: =IF(N130="sníž. přenesená",J130,0) -> 0 | BI130: =IF(N130="nulová",J130,0) -> 0 | BJ130: 1 | BK130: =ROUND(I130*H130,2) -> 0 | BL130: 4 | BM130: -1744957849
D131: VV | F131: "základové patky" | AT131: VV | AU131: 2 | AV131: 1 | AW131: True | AX131: 0 | AY131: ROZPOCET
D132: VV | F132: "východní brána" 1,0*1,0*1,0*3 | H132: 3 | AT132: VV | AU132: 2 | AV132: 2 | AW132: True | AX132: 0 | AY132: ROZPOCET
D133: VV | F133: "západní brána" 1,0*1,0*1,0*2 | H133: 2 | AT133: VV | AU133: 2 | AV133: 2 | AW133: True | AX133: 0 | AY133: ROZPOCET
D134: VV | F134: Součet | H134: 5 | AT134: VV | AU134: 2 | AV134: 4 | AW134: True | AX134: 1 | AY134: ROZPOCET
C135: 3 | D135: K | E135: 139001101 | F135: Příplatek za ztížení vykopávky v blízkosti podzemního vedení | G135: m3 | H135: 5 | J135: =ROUND(I135*H135,2) -> 0 | K135: CS ÚRS 2026 02 | N135: základní | P135: =O135*H135 -> 0 | Q135: 0 | R135: =Q135*H135 -> 0 | S135: 0 | T135: =S135*H135 -> 0 | AR135: 4 | AT135: K | AU135: 2 | AY135: ROZPOCET | BE135: =IF(N135="základní",J135,0) -> 0 | BF135: =IF(N135="snížená",J135,0) -> 0 | BG135: =IF(N135="zákl. přenesená",J135,0) -> 0 | BH135: =IF(N135="sníž. přenesená",J135,0) -> 0 | BI135: =IF(N135="nulová",J135,0) -> 0 | BJ135: 1 | BK135: =ROUND(I135*H135,2) -> 0 | BL135: 4 | BM135: -1784122356
C136: 4 | D136: K | E136: 162751117 | F136: Vodorovné přemístění přes 9 000 do 10000 m výkopku/sypaniny z horniny třídy těžitelnosti I skupiny 1 až 3 | G136: m3 | H136: 5 | J136: =ROUND(I136*H136,2) -> 0 | K136: CS ÚRS 2026 02 | N136: základní | P136: =O136*H136 -> 0 | Q136: 0 | R136: =Q136*H136 -> 0 | S136: 0 | T136: =S136*H136 -> 0 | AR136: 4 | AT136: K | AU136: 2 | AY136: ROZPOCET | BE136: =IF(N136="základní",J136,0) -> 0 | BF136: =IF(N136="snížená",J136,0) -> 0 | BG136: =IF(N136="zákl. přenesená",J136,0) -> 0 | BH136: =IF(N136="sníž. přenesená",J136,0) -> 0 | BI136: =IF(N136="nulová",J136,0) -> 0 | BJ136: 1 | BK136: =ROUND(I136*H136,2) -> 0 | BL136: 4 | BM136: -350787396
C137: 5 | D137: K | E137: 171201231 | F137: Poplatek za předání recyklačnímu zařízení zeminy a kamení kód odpadu 17 05 04 | G137: t | H137: 8.5 | J137: =ROUND(I137*H137,2) -> 0 | K137: CS ÚRS 2026 02 | N137: základní | P137: =O137*H137 -> 0 | Q137: 0 | R137: =Q137*H137 -> 0 | S137: 0 | T137: =S137*H137 -> 0 | AR137: 4 | AT137: K | AU137: 2 | AY137: ROZPOCET | BE137: =IF(N137="základní",J137,0) -> 0 | BF137: =IF(N137="snížená",J137,0) -> 0 | BG137: =IF(N137="zákl. přenesená",J137,0) -> 0 | BH137: =IF(N137="sníž. přenesená",J137,0) -> 0 | BI137: =IF(N137="nulová",J137,0) -> 0 | BJ137: 1 | BK137: =ROUND(I137*H137,2) -> 0 | BL137: 4 | BM137: -830529794
D138: VV | F138: 5*1,7 'Přepočtené koeficientem množství | H138: 8.5 | AT138: VV | AU138: 2 | AV138: 2 | AW138: False | AX138: 1 | AY138: ROZPOCET
C139: 6 | D139: K | E139: 171251201 | F139: Uložení sypaniny na skládky nebo meziskládky | G139: m3 | H139: 5 | J139: =ROUND(I139*H139,2) -> 0 | K139: CS ÚRS 2026 02 | N139: základní | P139: =O139*H139 -> 0 | Q139: 0 | R139: =Q139*H139 -> 0 | S139: 0 | T139: =S139*H139 -> 0 | AR139: 4 | AT139: K | AU139: 2 | AY139: ROZPOCET | BE139: =IF(N139="základní",J139,0) -> 0 | BF139: =IF(N139="snížená",J139,0) -> 0 | BG139: =IF(N139="zákl. přenesená",J139,0) -> 0 | BH139: =IF(N139="sníž. přenesená",J139,0) -> 0 | BI139: =IF(N139="nulová",J139,0) -> 0 | BJ139: 1 | BK139: =ROUND(I139*H139,2) -> 0 | BL139: 4 | BM139: 385106402
D140: D | E140: 2 | F140: Zakládání | J140: =BK140 -> 0 | P140: =SUM(P141:P151) -> 0 | R140: =SUM(R141:R151) -> 12.973565 | T140: =SUM(T141:T151) -> 0 | AR140: 1 | AT140: D | AU140: 1 | AY140: ROZPOCET | BK140: =SUM(BK141:BK151) -> 0
C141: 7 | D141: K | E141: 275313611 | F141: Základové patky z betonu tř. C 16/20 | G141: m3 | H141: 5.5 | J141: =ROUND(I141*H141,2) -> 0 | K141: CS ÚRS 2026 02 | N141: základní | P141: =O141*H141 -> 0 | Q141: 2.30102 | R141: =Q141*H141 -> 12.65561 | S141: 0 | T141: =S141*H141 -> 0 | AR141: 4 | AT141: K | AU141: 2 | AY141: ROZPOCET | BE141: =IF(N141="základní",J141,0) -> 0 | BF141: =IF(N141="snížená",J141,0) -> 0 | BG141: =IF(N141="zákl. přenesená",J141,0) -> 0 | BH141: =IF(N141="sníž. přenesená",J141,0) -> 0 | BI141: =IF(N141="nulová",J141,0) -> 0 | BJ141: 1 | BK141: =ROUND(I141*H141,2) -> 0 | BL141: 4 | BM141: -1418006834
D142: VV | F142: "základové patky, do rostlého terénu +10%" | AT142: VV | AU142: 2 | AV142: 1 | AW142: True | AX142: 0 | AY142: ROZPOCET
D143: VV | F143: "východní brána" 1,0*1,0*1,0*3 | H143: 3 | AT143: VV | AU143: 2 | AV143: 2 | AW143: True | AX143: 0 | AY143: ROZPOCET
D144: VV | F144: "západní brána" 1,0*1,0*1,0*2 | H144: 2 | AT144: VV | AU144: 2 | AV144: 2 | AW144: True | AX144: 0 | AY144: ROZPOCET
D145: VV | F145: Součet | H145: 5 | AT145: VV | AU145: 2 | AV145: 4 | AW145: True | AX145: 1 | AY145: ROZPOCET
D146: VV | F146: 5*1,1 'Přepočtené koeficientem množství | H146: 5.5 | AT146: VV | AU146: 2 | AV146: 2 | AW146: False | AX146: 1 | AY146: ROZPOCET
C147: 8 | D147: K | E147: 275351121 | F147: Zřízení bednění základových patek pravoúhlého | G147: m2 | H147: 20 | J147: =ROUND(I147*H147,2) -> 0 | K147: CS ÚRS 2026 02 | N147: základní | P147: =O147*H147 -> 0 | Q147: 0.00264 | R147: =Q147*H147 -> 0.0528 | S147: 0 | T147: =S147*H147 -> 0 | AR147: 4 | AT147: K | AU147: 2 | AY147: ROZPOCET | BE147: =IF(N147="základní",J147,0) -> 0 | BF147: =IF(N147="snížená",J147,0) -> 0 | BG147: =IF(N147="zákl. přenesená",J147,0) -> 0 | BH147: =IF(N147="sníž. přenesená",J147,0) -> 0 | BI147: =IF(N147="nulová",J147,0) -> 0 | BJ147: 1 | BK147: =ROUND(I147*H147,2) -> 0 | BL147: 4 | BM147: -421268836
D148: VV | F148: 1,0*4*1,0*5 | H148: 20 | AT148: VV | AU148: 2 | AV148: 2 | AW148: True | AX148: 1 | AY148: ROZPOCET
C149: 9 | D149: K | E149: 275351122 | F149: Odstranění bednění základových patek pravoúhlého | G149: m2 | H149: 20 | J149: =ROUND(I149*H149,2) -> 0 | K149: CS ÚRS 2026 02 | N149: základní | P149: =O149*H149 -> 0 | Q149: 0 | R149: =Q149*H149 -> 0 | S149: 0 | T149: =S149*H149 -> 0 | AR149: 4 | AT149: K | AU149: 2 | AY149: ROZPOCET | BE149: =IF(N149="základní",J149,0) -> 0 | BF149: =IF(N149="snížená",J149,0) -> 0 | BG149: =IF(N149="zákl. přenesená",J149,0) -> 0 | BH149: =IF(N149="sníž. přenesená",J149,0) -> 0 | BI149: =IF(N149="nulová",J149,0) -> 0 | BJ149: 1 | BK149: =ROUND(I149*H149,2) -> 0 | BL149: 4 | BM149: -936666425
C150: 10 | D150: K | E150: 275361821 | F150: Výztuž základových patek betonářskou ocelí 10 505 (R) | G150: t | H150: 0.25 | J150: =ROUND(I150*H150,2) -> 0 | K150: CS ÚRS 2026 02 | N150: základní | P150: =O150*H150 -> 0 | Q150: 1.06062 | R150: =Q150*H150 -> 0.265155 | S150: 0 | T150: =S150*H150 -> 0 | AR150: 4 | AT150: K | AU150: 2 | AY150: ROZPOCET | BE150: =IF(N150="základní",J150,0) -> 0 | BF150: =IF(N150="snížená",J150,0) -> 0 | BG150: =IF(N150="zákl. přenesená",J150,0) -> 0 | BH150: =IF(N150="sníž. přenesená",J150,0) -> 0 | BI150: =IF(N150="nulová",J150,0) -> 0 | BJ150: 1 | BK150: =ROUND(I150*H150,2) -> 0 | BL150: 4 | BM150: -397306730
D151: VV | F151: "patky, odhad vyztužení 50kg/m3" 50,0/1000*5,0 | H151: 0.25 | AT151: VV | AU151: 2 | AV151: 2 | AW151: True | AX151: 1 | AY151: ROZPOCET
D152: D | E152: 3 | F152: Svislé a kompletní konstrukce | J152: =BK152 -> 0 | P152: =SUM(P153:P183) -> 0 | R152: =SUM(R153:R183) -> 1.247496 | T152: =SUM(T153:T183) -> 0 | AR152: 1 | AT152: D | AU152: 1 | AY152: ROZPOCET | BK152: =SUM(BK153:BK183) -> 0
C153: 11 | D153: K | E153: 338171113 | F153: Osazování sloupků a vzpěr plotových ocelových v do 2 m se zabetonováním | G153: kus | H153: 5 | J153: =ROUND(I153*H153,2) -> 0 | K153: CS ÚRS 2026 02 | N153: základní | P153: =O153*H153 -> 0 | Q153: 0.17489 | R153: =Q153*H153 -> 0.87445 | S153: 0 | T153: =S153*H153 -> 0 | AR153: 4 | AT153: K | AU153: 2 | AY153: ROZPOCET | BE153: =IF(N153="základní",J153,0) -> 0 | BF153: =IF(N153="snížená",J153,0) -> 0 | BG153: =IF(N153="zákl. přenesená",J153,0) -> 0 | BH153: =IF(N153="sníž. přenesená",J153,0) -> 0 | BI153: =IF(N153="nulová",J153,0) -> 0 | BJ153: 1 | BK153: =ROUND(I153*H153,2) -> 0 | BL153: 4 | BM153: 83081206
C154: 12 | D154: M | E154: 5534218R1 | F154: plotový sloupek s průřezem 100x100x3 dl. 2,0m s patkou pozinkovaný pro kotvení do betonu | G154: kus | H154: 5 | J154: =ROUND(I154*H154,2) -> 0 | N154: základní | P154: =O154*H154 -> 0 | Q154: 0.0057 | R154: =Q154*H154 -> 0.0285 | S154: 0 | T154: =S154*H154 -> 0 | AR154: 8 | AT154: M | AU154: 2 | AY154: ROZPOCET | BE154: =IF(N154="základní",J154,0) -> 0 | BF154: =IF(N154="snížená",J154,0) -> 0 | BG154: =IF(N154="zákl. přenesená",J154,0) -> 0 | BH154: =IF(N154="sníž. přenesená",J154,0) -> 0 | BI154: =IF(N154="nulová",J154,0) -> 0 | BJ154: 1 | BK154: =ROUND(I154*H154,2) -> 0 | BL154: 4 | BM154: -1050526944
D155: VV | F155: "východní brána" 3 | H155: 3 | AT155: VV | AU155: 2 | AV155: 2 | AW155: True | AX155: 0 | AY155: ROZPOCET
D156: VV | F156: "západní brána" 2 | H156: 2 | AT156: VV | AU156: 2 | AV156: 2 | AW156: True | AX156: 0 | AY156: ROZPOCET
D157: VV | F157: Součet | H157: 5 | AT157: VV | AU157: 2 | AV157: 4 | AW157: True | AX157: 1 | AY157: ROZPOCET
C158: 13 | D158: K | E158: 348101220 | F158: Osazení vrat nebo vrátek k oplocení na ocelové sloupky pl přes 2 do 4 m2 | G158: kus | H158: 1 | J158: =ROUND(I158*H158,2) -> 0 | K158: CS ÚRS 2026 02 | N158: základní | P158: =O158*H158 -> 0 | Q158: 0 | R158: =Q158*H158 -> 0 | S158: 0 | T158: =S158*H158 -> 0 | AR158: 4 | AT158: K | AU158: 2 | AY158: ROZPOCET | BE158: =IF(N158="základní",J158,0) -> 0 | BF158: =IF(N158="snížená",J158,0) -> 0 | BG158: =IF(N158="zákl. přenesená",J158,0) -> 0 | BH158: =IF(N158="sníž. přenesená",J158,0) -> 0 | BI158: =IF(N158="nulová",J158,0) -> 0 | BJ158: 1 | BK158: =ROUND(I158*H158,2) -> 0 | BL158: 4 | BM158: 1052166312
C159: 14 | D159: M | E159: 5534233R1 | F159: branka plotová jednokřídlá s výplní tahokovem pozinkovaná, rozměr 1200x1900mm | G159: kus | H159: 1 | J159: =ROUND(I159*H159,2) -> 0 | N159: základní | P159: =O159*H159 -> 0 | Q159: 0.04566 | R159: =Q159*H159 -> 0.04566 | S159: 0 | T159: =S159*H159 -> 0 | AR159: 8 | AT159: M | AU159: 2 | AY159: ROZPOCET | BE159: =IF(N159="základní",J159,0) -> 0 | BF159: =IF(N159="snížená",J159,0) -> 0 | BG159: =IF(N159="zákl. přenesená",J159,0) -> 0 | BH159: =IF(N159="sníž. přenesená",J159,0) -> 0 | BI159: =IF(N159="nulová",J159,0) -> 0 | BJ159: 1 | BK159: =ROUND(I159*H159,2) -> 0 | BL159: 4 | BM159: -2068854386
D160: VV | F160: "Příslušenství: stavitelné panty, klika, zámek, 3 klíče, zajišťovací kolík" | AT160: VV | AU160: 2 | AV160: 1 | AW160: True | AX160: 0 | AY160: ROZPOCET
D161: VV | F161: "východní brána" 1 | H161: 1 | AT161: VV | AU161: 2 | AV161: 2 | AW161: True | AX161: 1 | AY161: ROZPOCET
C162: 15 | D162: M | E162: 5534233R2 | F162: branka plotová jednokřídlá s výplní tahokovem pozinkovaná, rozměr 1550x1900mm | G162: kus | H162: 1 | J162: =ROUND(I162*H162,2) -> 0 | N162: základní | P162: =O162*H162 -> 0 | Q162: 0.04566 | R162: =Q162*H162 -> 0.04566 | S162: 0 | T162: =S162*H162 -> 0 | AR162: 8 | AT162: M | AU162: 2 | AY162: ROZPOCET | BE162: =IF(N162="základní",J162,0) -> 0 | BF162: =IF(N162="snížená",J162,0) -> 0 | BG162: =IF(N162="zákl. přenesená",J162,0) -> 0 | BH162: =IF(N162="sníž. přenesená",J162,0) -> 0 | BI162: =IF(N162="nulová",J162,0) -> 0 | BJ162: 1 | BK162: =ROUND(I162*H162,2) -> 0 | BL162: 4 | BM162: -1736487175
D163: VV | F163: "Příslušenství: stavitelné panty, klika, zámek, 3 klíče, zajišťovací kolík" | AT163: VV | AU163: 2 | AV163: 1 | AW163: True | AX163: 0 | AY163: ROZPOCET
D164: VV | F164: "západní brána" 1 | H164: 1 | AT164: VV | AU164: 2 | AV164: 2 | AW164: True | AX164: 1 | AY164: ROZPOCET
C165: 16 | D165: K | E165: 348171130 | F165: Montáž rámového oplocení v přes 1,5 do 2 m | G165: m | H165: 3.49 | J165: =ROUND(I165*H165,2) -> 0 | K165: CS ÚRS 2026 02 | N165: základní | P165: =O165*H165 -> 0 | Q165: 0 | R165: =Q165*H165 -> 0 | S165: 0 | T165: =S165*H165 -> 0 | AR165: 4 | AT165: K | AU165: 2 | AY165: ROZPOCET | BE165: =IF(N165="základní",J165,0) -> 0 | BF165: =IF(N165="snížená",J165,0) -> 0 | BG165: =IF(N165="zákl. přenesená",J165,0) -> 0 | BH165: =IF(N165="sníž. přenesená",J165,0) -> 0 | BI165: =IF(N165="nulová",J165,0) -> 0 | BJ165: 1 | BK165: =ROUND(I165*H165,2) -> 0 | BL165: 4 | BM165: 322762199
D166: VV | F166: "východní brána" 0,52+1,07 | H166: 1.59 | AT166: VV | AU166: 2 | AV166: 2 | AW166: True | AX166: 0 | AY166: ROZPOCET
D167: VV | F167: "západní brána" 1,9 | H167: 1.9 | AT167: VV | AU167: 2 | AV167: 2 | AW167: True | AX167: 0 | AY167: ROZPOCET
...
